BEGIN:VCALENDAR
VERSION:2.0
PRODID:-//Lasermet USA - ECPv6.15.20//NONSGML v1.0//EN
CALSCALE:GREGORIAN
METHOD:PUBLISH
X-WR-CALNAME:Lasermet USA
X-ORIGINAL-URL:https://www.lasermet.com/us
X-WR-CALDESC:Events for Lasermet USA
REFRESH-INTERVAL;VALUE=DURATION:PT1H
X-Robots-Tag:noindex
X-PUBLISHED-TTL:PT1H
BEGIN:VTIMEZONE
TZID:UTC
BEGIN:STANDARD
TZOFFSETFROM:+0000
TZOFFSETTO:+0000
TZNAME:UTC
DTSTART:20250101T000000
END:STANDARD
END:VTIMEZONE
BEGIN:VEVENT
DTSTART;TZID=UTC:20260519T080000
DTEND;TZID=UTC:20260521T170000
DTSTAMP:20260422T220536
CREATED:20260407T040909Z
LAST-MODIFIED:20260407T041916Z
UID:18040-1779177600-1779382800@www.lasermet.com
SUMMARY:Lasermet USA at the 2026 DOE LSO Workshop in Livermore\, California
DESCRIPTION:Lasermet USA will be attending the 2026 Department of Energy (DOE) Laser Safety Officer (LSO) Workshop\, taking place May 19–21\, 2026 at Lawrence Livermore National Laboratory in Livermore\, California.The DOE LSO Workshop is one of the leading events in the United States for laser safety professionals\, bringing together experts from national laboratories\, universities\, and industrial sectors. The workshop focuses on advancing laser safety standards\, compliance\, and real-world applications\, while addressing evolving challenges in high-power and complex laser environments.With decades of experience supporting laser facilities across the US and globally\, Lasermet delivers engineered safety systems designed for compliance with ANSI and FDA laser safety requirements. \n\n\n\n\n\n\n\nFeatured Products\n\n\n\n\n\nLasermet USA will be present at the Vendor Exhibit\, where attendees can explore our range of laser safety solutions\, including: \n\n\n\n	ICS-9 Laser Safety Interlock® Controller\nNRTL Certified Laser Interlock® Control System\nThe ICS-9 Laser Interlock® Controller is the successor to the highly successful ICS-6\, directly replacing it.  \n\nFull start-to-end dual channel architecture and fault detection\nInterlocked mains supply \nInterlocked low voltage supply for beam shutters \nLaser Interlock® connector operators for all lasers\nTime limited fail-safe override option \nAutomatic switching of illuminated signs indicating danger or safe modes\nEmergency stop circuit to prevent injury or damage in an emergency\n\nRead moreContinue\n				Loading\n				Done\n					\n			\n\n\n	LS-30 Series Laser Shutters\n\nMulti-directional Mounted Laser Beam Shutters\n\nThe Lasermet LS-30 Series of Laser Safety Beam Shutters are intended to provide a means of preventing accidental exposure to potentially harmful laser beams. Compared to the previous LS-20 Series of beam shutters\, the LS-30 Series can be mounted in any direction. \n\nMounted in any orientation\nSpring-loaded blade\nSIL3-rated Dual-channel versions available\nOEM versions available\n\nRead moreContinue\n				Loading\n				Done\n					\n			\n\n\n	LS-300 Series Large Aperture Laser Shutters\nThe Lasermet LS-300 Series of Laser Safety Beam Shutters are intended to provide a means of preventing accidental exposure to potentially harmful laser beam. \nAvailable aperture sizes included are: \n\n2″ (50mm)\n3″ (75mm)\n4″ (100mm)\n\nRead moreContinue\n				Loading\n				Done\n					\n			\n\n\n	CaLM Control and Laser Monitoring System\nView all wavelengths in use on one screen to Monitor and Control numerous labs \nThe CaLM System features a large monitor that can view and control all aspects of the Laser Interlock System including: \n\nStatus of all Interlock Switches\nStatus of all E-Stops\, Shutters and DBS\nStatus of ICS-9 Interlock Controller\nStatus of Laser Jailer Active Guarding\nWavelengths of accessible lasers\n\nRead moreContinue\n				Loading\n				Done\n					\n			\n\n\n\n\n\n\n\n\nSee you there!!!
URL:https://www.lasermet.com/us/show/lasermet-usa-at-the-2026-doe-lso-workshop-in-livermore-california/
LOCATION:Lawrence Livermore National Laboratory\, 7000 East Ave. Building 123\, Livermore\, California\, 94550\, United States
CATEGORIES:North American Shows
ATTACH;FMTTYPE=image/png:https://www.lasermet.com/us/wp-content/uploads/sites/2/2026/03/Lasermet-at-US-Department-of-Energy-LSO-Workshop-2026.png
END:VEVENT
END:VCALENDAR