BEGIN:VCALENDAR
VERSION:2.0
PRODID:-//Lasermet USA - ECPv6.15.20//NONSGML v1.0//EN
CALSCALE:GREGORIAN
METHOD:PUBLISH
X-ORIGINAL-URL:https://www.lasermet.com/us
X-WR-CALDESC:Events for Lasermet USA
REFRESH-INTERVAL;VALUE=DURATION:PT1H
X-Robots-Tag:noindex
X-PUBLISHED-TTL:PT1H
BEGIN:VTIMEZONE
TZID:UTC
BEGIN:STANDARD
TZOFFSETFROM:+0000
TZOFFSETTO:+0000
TZNAME:UTC
DTSTART:20250101T000000
END:STANDARD
END:VTIMEZONE
BEGIN:VEVENT
DTSTART;TZID=UTC:20260120T180000
DTEND;TZID=UTC:20260123T010000
DTSTAMP:20260423T011554
CREATED:20251104T053721Z
LAST-MODIFIED:20260319T112843Z
UID:10500-1768932000-1769130000@www.lasermet.com
SUMMARY:Lasermet USA will be at SPIE 2026 California
DESCRIPTION:Thank You!!!\n\n\n\nPhotonics West 2026 has officially come to a close. \n\n\n\nThank you to everyone who visited our booth and took the time to speak with us. We truly value the conversations and connections made during the show. \n\n\n\nWe’ll be back next year — see you in 2027. \n\n\n\n\nSPIE Photonics West 2026 Event RecapPosted on January 30\, 2026From January 20–22\, 2026\, Lasermet was at San Francisco\, California for SPIE Photonics West 2026\, the world’s leading event for lasers\, biomedical optics\, quantum technologies\, and optoelectronics. Lasermet has exhibited…\n\n\n\n\n\n\n\n\n\n\n\n\n\n\n\n\n\n\n\n\n\n\n\n\n\n\nLasermet Laser Safety Solutions will be exhibiting at the SPIE Photonics West Exhibition from January 20 to 22\, 2026. The exhibition will be held at the Moscone Center in San Francisco\, California. \n\n\n\n\n\nQuick Details\n\n\n\n\n20-22 January 2026\n\n\n\nMoscone Convention Center  San Francisco\, California\n\n\n\nBooth 5541\n\n\n\n\n\n\n\n\n\n\nAbout SPIE\n\n\n\nSPIE is the international society for optics and photonics. With a global membership of over 25\,000\, SPIE brings engineers\, scientists\, students\, and business professionals together to advance light-based science and technology. \n\n\n\nEach year\, SPIE organizes and sponsors approximately 25 major technical forums\, exhibitions\, and education programs in North America\, Europe\, Asia\, and the South Pacific\, where more than 35\,000 scientists\, engineers\, and entrepreneurs showcase the latest innovations across a wide range of technologies. \n\n\n\nAbout Lasermet\n\n\n\nLasermet was founded in 1987 by Bryan Tozer\, the chairman of the BSI and European laser safety standards committees\, and head of laser safety in the UK electricity industry for over 20 years. \n\n\n\nSince its founding\, Lasermet’s mission has been to design\, manufacture\, and install innovative\, high-quality laser safety systems anywhere in the world. Today\, Lasermet operates globally\, with offices in the UK\, US\, Germany\, and the Philippines\, supported by a network of distributors around the world.
URL:https://www.lasermet.com/us/show/lasermet-usa-will-be-at-spie-2026-california/
LOCATION:Moscone Center\, 747 Howard St\, San Francisco\, California\, 94103\, United States
CATEGORIES:North American Shows
ATTACH;FMTTYPE=image/png:https://www.lasermet.com/us/wp-content/uploads/sites/2/2025/11/Lasermet-goes-to-SPIE-Photonics-West-2026-scaled.png
END:VEVENT
END:VCALENDAR