BEGIN:VCALENDAR
VERSION:2.0
PRODID:-//Lasermet USA - ECPv6.15.20//NONSGML v1.0//EN
CALSCALE:GREGORIAN
METHOD:PUBLISH
X-WR-CALNAME:Lasermet USA
X-ORIGINAL-URL:https://www.lasermet.com/us
X-WR-CALDESC:Events for Lasermet USA
REFRESH-INTERVAL;VALUE=DURATION:PT1H
X-Robots-Tag:noindex
X-PUBLISHED-TTL:PT1H
BEGIN:VTIMEZONE
TZID:UTC
BEGIN:STANDARD
TZOFFSETFROM:+0000
TZOFFSETTO:+0000
TZNAME:UTC
DTSTART:20240101T000000
END:STANDARD
END:VTIMEZONE
BEGIN:VEVENT
DTSTART;TZID=UTC:20251013T000000
DTEND;TZID=UTC:20251016T235959
DTSTAMP:20260423T053537
CREATED:20251104T034949Z
LAST-MODIFIED:20260407T041944Z
UID:10466-1760313600-1760659199@www.lasermet.com
SUMMARY:Join Lasermet at ICALEO 2025 — What’s Next in Laser Safety
DESCRIPTION:Lasermet is proud to announce that we will be exhibiting at ICALEO 2025 (International Congress on Applications of Lasers & Electro-Optics)\, taking place October 13-16\, 2025\, in Orlando\, Florida. \n\n\n\nWe’d like to extend a personal invitation to all researchers\, engineers\, safety officers\, and industry professionals to come visit us at our stand. If you work with lasers – in research\, manufacturing\, medical\, or any application – you owe it to yourself to see what the leading edge of safety looks like. \n\n\n\nOur team of laser safety experts will be available to show you how to integrate safety into your workflow\, tackle regulatory challenges\, and optimize safety without compromising performance. The show is a great opportunity to meet peers\, potential collaborators\, and leaders in laser applications and safety. This is a chance to exchange ideas\, problem-solve\, and keep ahead of shifts in regulation and technology. \n\n\n\n\n\n\n\nWhy ICALEO 2025 Matters\n\n\n\n\n\nICALEO is the definitive forum bringing together applications of lasers and electro-optics\, research\, industrial practice\, and safety. Attendees will get exposure to: \n\n\n\n\nBreakthroughs in laser processing and monitoring.\n\n\n\nRegulatory developments and safety compliance in different jurisdictions.\n\n\n\nCross-industry perspectives: medical\, manufacturing\, materials processing\, semiconductor\, and more.\n\n\n\n\nFor organizations grappling with security\, efficiency\, risk\, or product development around lasers\, this is a show you can’t afford to miss. \n\n\n\n\n\n\n\n\n\n\n\n\n\n\n\nMark Your Calendar & Stay in Touch\n\n\n\n\nDate: October 13-16\, 2025\n\n\n\nVenue: Orlando\, Florida\n\n\n\n\nIf you plan on attending\, drop us a line or follow our updates. We look forward to showing how Lasermet is helping make laser work both cutting-edge and genuinely safe.  \n\n\n\nSee you in Orlando — let’s shape the future of laser safety\, together. \n\n\n\n\n\n\n\n\n\n\n\n\n\n\n\n\n\n\n\n\n\n\n\nGet in Touch  \n\n\n\n\nContact Us
URL:https://www.lasermet.com/us/show/join-lasermet-at-icaleo-2025-whats-next-in-laser-safety/
LOCATION:Caribe Royale Orlando\, 8101 World Center Dr\, Orlando\, Florida\, 32821\, United States
CATEGORIES:North American Shows
ATTACH;FMTTYPE=image/png:https://www.lasermet.com/us/wp-content/uploads/sites/2/2025/09/Lasermet-at-Icaleo-2025-1.png
END:VEVENT
END:VCALENDAR